BEGIN:VCALENDAR
VERSION:2.0
PRODID:-//Fleming Farm and Ranch Supply - ECPv5.13.0//NONSGML v1.0//EN
CALSCALE:GREGORIAN
METHOD:PUBLISH
X-WR-CALNAME:Fleming Farm and Ranch Supply
X-ORIGINAL-URL:https://flemingfarmandranch.com
X-WR-CALDESC:Events for Fleming Farm and Ranch Supply
BEGIN:VTIMEZONE
TZID:America/Chicago
BEGIN:DAYLIGHT
TZOFFSETFROM:-0600
TZOFFSETTO:-0500
TZNAME:CDT
DTSTART:20130310T080000
END:DAYLIGHT
BEGIN:STANDARD
TZOFFSETFROM:-0500
TZOFFSETTO:-0600
TZNAME:CST
DTSTART:20131103T070000
END:STANDARD
END:VTIMEZONE
BEGIN:VEVENT
DTSTART;VALUE=DATE:20131225
DTEND;VALUE=DATE:20131226
DTSTAMP:20260423T021135
CREATED:20131217T015949Z
LAST-MODIFIED:20131217T015949Z
UID:400-1387929600-1388015999@flemingfarmandranch.com
SUMMARY:Christmas Day : CLOSED
DESCRIPTION:Please note below that Fleming Farm and Ranch Supply has special store hours during the holiday season.  Enjoy this magical Christmas season with your friends and family.  We thank you for your business in 2013 and look forward to serving you in 2014!! \nTuesday\, December 24\, 2013 – 8:00am – 12:00pm \nWednesday\, December 25\, 2013 – CLOSED – Merry Christmas! \nTuesday\, December 31\, 2013 – 8:00am – 12:00pm \nWednesday\, January 1\, 2014 – CLOSED – Happy New Year!
URL:https://flemingfarmandranch.com/event/christmas-day-closed/
END:VEVENT
END:VCALENDAR