BEGIN:VCALENDAR
VERSION:2.0
PRODID:-//Fleming Farm and Ranch Supply - ECPv5.13.0//NONSGML v1.0//EN
CALSCALE:GREGORIAN
METHOD:PUBLISH
X-WR-CALNAME:Fleming Farm and Ranch Supply
X-ORIGINAL-URL:https://flemingfarmandranch.com
X-WR-CALDESC:Events for Fleming Farm and Ranch Supply
BEGIN:VTIMEZONE
TZID:America/Chicago
BEGIN:DAYLIGHT
TZOFFSETFROM:-0600
TZOFFSETTO:-0500
TZNAME:CDT
DTSTART:20140309T080000
END:DAYLIGHT
BEGIN:STANDARD
TZOFFSETFROM:-0500
TZOFFSETTO:-0600
TZNAME:CST
DTSTART:20141102T070000
END:STANDARD
END:VTIMEZONE
BEGIN:VEVENT
DTSTART;TZID=America/Chicago:20141205T113000
DTEND;TZID=America/Chicago:20141205T130000
DTSTAMP:20260423T160317
CREATED:20141104T045455Z
LAST-MODIFIED:20141104T045455Z
UID:1106-1417779000-1417784400@flemingfarmandranch.com
SUMMARY:Customer Appreciation "Stew Day"
DESCRIPTION:Join Fleming Farm and Ranch Supply for our annual Customer Appreciation Lone Star Stew Day on Friday\, December 5!  Prepared by our friends Kent and Joe Bob with Lone Star Feed.  Stew at 11:30am – 1:00pm or while it last!
URL:https://flemingfarmandranch.com/event/customer-appreciation-stew-day/
CATEGORIES:Upcoming Events
END:VEVENT
END:VCALENDAR