BEGIN:VCALENDAR
VERSION:2.0
PRODID:-//Fleming Farm and Ranch Supply - ECPv5.13.0//NONSGML v1.0//EN
CALSCALE:GREGORIAN
METHOD:PUBLISH
X-WR-CALNAME:Fleming Farm and Ranch Supply
X-ORIGINAL-URL:https://flemingfarmandranch.com
X-WR-CALDESC:Events for Fleming Farm and Ranch Supply
BEGIN:VTIMEZONE
TZID:America/Chicago
BEGIN:DAYLIGHT
TZOFFSETFROM:-0600
TZOFFSETTO:-0500
TZNAME:CDT
DTSTART:20130310T080000
END:DAYLIGHT
BEGIN:STANDARD
TZOFFSETFROM:-0500
TZOFFSETTO:-0600
TZNAME:CST
DTSTART:20131103T070000
END:STANDARD
END:VTIMEZONE
BEGIN:VEVENT
DTSTART;TZID=America/Chicago:20131103T020000
DTEND;TZID=America/Chicago:20131103T020000
DTSTAMP:20260422T180559
CREATED:20131022T233636Z
LAST-MODIFIED:20131022T233636Z
UID:281-1383444000-1383444000@flemingfarmandranch.com
SUMMARY:Daylight Savings Time Ends
DESCRIPTION:Fall back!  Daylight Savings Time ends offically on Sunday\, November 3 at 2:00am.  Don’t forget to set your clocks back.
URL:https://flemingfarmandranch.com/event/daylight-savings-time-ends/
CATEGORIES:Upcoming Events
END:VEVENT
END:VCALENDAR