BEGIN:VCALENDAR
VERSION:2.0
PRODID:-//Fleming Farm and Ranch Supply - ECPv5.13.0//NONSGML v1.0//EN
CALSCALE:GREGORIAN
METHOD:PUBLISH
X-WR-CALNAME:Fleming Farm and Ranch Supply
X-ORIGINAL-URL:https://flemingfarmandranch.com
X-WR-CALDESC:Events for Fleming Farm and Ranch Supply
BEGIN:VTIMEZONE
TZID:America/Chicago
BEGIN:DAYLIGHT
TZOFFSETFROM:-0600
TZOFFSETTO:-0500
TZNAME:CDT
DTSTART:20140309T080000
END:DAYLIGHT
BEGIN:STANDARD
TZOFFSETFROM:-0500
TZOFFSETTO:-0600
TZNAME:CST
DTSTART:20141102T070000
END:STANDARD
END:VTIMEZONE
BEGIN:VEVENT
DTSTART;TZID=America/Chicago:20140215T090000
DTEND;TZID=America/Chicago:20140215T120000
DTSTAMP:20260423T104400
CREATED:20140211T223154Z
LAST-MODIFIED:20140211T223154Z
UID:531-1392454800-1392465600@flemingfarmandranch.com
SUMMARY:Dog Adoption Day
DESCRIPTION:Fleming Farm and Ranch Supply is hosting a Dog Adoption Day this Saturday\, February 15\, from 9:00am – 12:00pm.   The event is sponsored by the 4 F Foundation.   The Four F Foundation has been finding forever homes for dogs since 2007 and have rescued over 200 dogs and puppies.  4 F Foundation is a no kill shelter.
URL:https://flemingfarmandranch.com/event/dog-adoption-day/
CATEGORIES:Upcoming Events
END:VEVENT
END:VCALENDAR