BEGIN:VCALENDAR
VERSION:2.0
PRODID:-//Fleming Farm and Ranch Supply - ECPv5.13.0//NONSGML v1.0//EN
CALSCALE:GREGORIAN
METHOD:PUBLISH
X-WR-CALNAME:Fleming Farm and Ranch Supply
X-ORIGINAL-URL:https://flemingfarmandranch.com
X-WR-CALDESC:Events for Fleming Farm and Ranch Supply
BEGIN:VTIMEZONE
TZID:America/Chicago
BEGIN:DAYLIGHT
TZOFFSETFROM:-0600
TZOFFSETTO:-0500
TZNAME:CDT
DTSTART:20150308T080000
END:DAYLIGHT
BEGIN:STANDARD
TZOFFSETFROM:-0500
TZOFFSETTO:-0600
TZNAME:CST
DTSTART:20151101T070000
END:STANDARD
END:VTIMEZONE
BEGIN:VEVENT
DTSTART;TZID=America/Chicago:20150504T121500
DTEND;TZID=America/Chicago:20150504T130000
DTSTAMP:20260422T202051
CREATED:20150428T233909Z
LAST-MODIFIED:20150428T233909Z
UID:1403-1430741700-1430744400@flemingfarmandranch.com
SUMMARY:Fish Truck :: May 4
DESCRIPTION:All this rain is great for our ponds and it is time to stock your pond! The fish truck from Abney’s Fish Truck is rolling into Fleming Farm and Ranch Supply again\, on Monday\, May 4 from 12:15 – 1:00pm.   The truck will have channel cats\, large mouth bass\, black crappie\, hybrid bluegill\, coppernose bluegill\, fathead minnows and MORE! Questions?  Visit the pond fish truck website here or give us a call at 903-882-3361.
URL:https://flemingfarmandranch.com/event/fish-truck-may-4/
CATEGORIES:Upcoming Events
END:VEVENT
END:VCALENDAR