BEGIN:VCALENDAR
VERSION:2.0
PRODID:-//Fleming Farm and Ranch Supply - ECPv5.13.0//NONSGML v1.0//EN
CALSCALE:GREGORIAN
METHOD:PUBLISH
X-WR-CALNAME:Fleming Farm and Ranch Supply
X-ORIGINAL-URL:https://flemingfarmandranch.com
X-WR-CALDESC:Events for Fleming Farm and Ranch Supply
BEGIN:VTIMEZONE
TZID:America/Chicago
BEGIN:DAYLIGHT
TZOFFSETFROM:-0600
TZOFFSETTO:-0500
TZNAME:CDT
DTSTART:20150308T080000
END:DAYLIGHT
BEGIN:STANDARD
TZOFFSETFROM:-0500
TZOFFSETTO:-0600
TZNAME:CST
DTSTART:20151101T070000
END:STANDARD
END:VTIMEZONE
BEGIN:VEVENT
DTSTART;VALUE=DATE:20150704
DTEND;VALUE=DATE:20150705
DTSTAMP:20260422T134633
CREATED:20150530T002138Z
LAST-MODIFIED:20150530T002138Z
UID:1448-1435968000-1436054399@flemingfarmandranch.com
SUMMARY:July 4 :: Closed
DESCRIPTION:Fleming Farm and Ranch Supply will be closed on Independence Day\, Saturday\, July 4\, 2015.  We are open normal business hours on Friday\, July 3\, 8:00am – 5:30pm.  Please enjoy a very safe holiday weekend with your family and friends at the lake\, at home\, camping\, or wherever your holiday plans take you\, as we celebrate our great country’s birthday.
URL:https://flemingfarmandranch.com/event/july-4-closed-2/
CATEGORIES:Upcoming Events
END:VEVENT
END:VCALENDAR