BEGIN:VCALENDAR
VERSION:2.0
PRODID:-//Fleming Farm and Ranch Supply - ECPv5.13.0//NONSGML v1.0//EN
CALSCALE:GREGORIAN
METHOD:PUBLISH
X-WR-CALNAME:Fleming Farm and Ranch Supply
X-ORIGINAL-URL:https://flemingfarmandranch.com
X-WR-CALDESC:Events for Fleming Farm and Ranch Supply
BEGIN:VTIMEZONE
TZID:America/Chicago
BEGIN:DAYLIGHT
TZOFFSETFROM:-0600
TZOFFSETTO:-0500
TZNAME:CDT
DTSTART:20150308T080000
END:DAYLIGHT
BEGIN:STANDARD
TZOFFSETFROM:-0500
TZOFFSETTO:-0600
TZNAME:CST
DTSTART:20151101T070000
END:STANDARD
END:VTIMEZONE
BEGIN:VEVENT
DTSTART;VALUE=DATE:20150907
DTEND;VALUE=DATE:20150908
DTSTAMP:20260422T163424
CREATED:20150804T001247Z
LAST-MODIFIED:20150804T001247Z
UID:1532-1441584000-1441670399@flemingfarmandranch.com
SUMMARY:Labor Day :: Closed
DESCRIPTION:Fleming Farm and Ranch Supply will be closed on Monday\, September 7 in observance of Labor Day.  Do you know why we celebrate Labor Day? According to Wikipedia\,  Labor Day constitutes a yearly national tribute to the contributions workers have made to the strength\, prosperity\, and well-being of their country.  Please enjoy a very safe holiday with your family and friends.  We’ll see you on Tuesday when we will be open normal hours 8:00am – 5:30pm.
URL:https://flemingfarmandranch.com/event/labor-day-closed-2/
CATEGORIES:Upcoming Events
END:VEVENT
END:VCALENDAR