BEGIN:VCALENDAR
VERSION:2.0
PRODID:-//Fleming Farm and Ranch Supply - ECPv5.13.0//NONSGML v1.0//EN
CALSCALE:GREGORIAN
METHOD:PUBLISH
X-WR-CALNAME:Fleming Farm and Ranch Supply
X-ORIGINAL-URL:https://flemingfarmandranch.com
X-WR-CALDESC:Events for Fleming Farm and Ranch Supply
BEGIN:VTIMEZONE
TZID:America/Chicago
BEGIN:DAYLIGHT
TZOFFSETFROM:-0600
TZOFFSETTO:-0500
TZNAME:CDT
DTSTART:20150308T080000
END:DAYLIGHT
BEGIN:STANDARD
TZOFFSETFROM:-0500
TZOFFSETTO:-0600
TZNAME:CST
DTSTART:20151101T070000
END:STANDARD
END:VTIMEZONE
BEGIN:VEVENT
DTSTART;TZID=America/Chicago:20150502T080000
DTEND;TZID=America/Chicago:20150502T130000
DTSTAMP:20260422T214659
CREATED:20150415T191315Z
LAST-MODIFIED:20150415T191315Z
UID:1396-1430553600-1430571600@flemingfarmandranch.com
SUMMARY:Lindale 4-H Garage Sale
DESCRIPTION:Fleming Farm and Ranch Supply is hosting the Lindale 4-H Garage Sale in our parking lot on Saturday May 2\, 8:00am – 1:00pm.  This event is to raise donations for both the Lindale 4-H Club and the Lindale Library.  To make this garage sale a huge success\, they need your help. Please consider donating items to include in the garage sale.  Any items\, big or small and if you need someone to pick them up\, we will do that too! Contact Dan Palecek (505-220-8019 or palecekdan@aol.com) or Tara Retz (903-752-0777) to arrange drop-off or pick up of your items. Cash donations would also be greatly appreciated.
URL:https://flemingfarmandranch.com/event/lindale-4-h-garage-sale/
CATEGORIES:Upcoming Events
END:VEVENT
END:VCALENDAR