BEGIN:VCALENDAR
VERSION:2.0
PRODID:-//Fleming Farm and Ranch Supply - ECPv5.13.0//NONSGML v1.0//EN
CALSCALE:GREGORIAN
METHOD:PUBLISH
X-WR-CALNAME:Fleming Farm and Ranch Supply
X-ORIGINAL-URL:https://flemingfarmandranch.com
X-WR-CALDESC:Events for Fleming Farm and Ranch Supply
BEGIN:VTIMEZONE
TZID:America/Chicago
BEGIN:DAYLIGHT
TZOFFSETFROM:-0600
TZOFFSETTO:-0500
TZNAME:CDT
DTSTART:20150308T080000
END:DAYLIGHT
BEGIN:STANDARD
TZOFFSETFROM:-0500
TZOFFSETTO:-0600
TZNAME:CST
DTSTART:20151101T070000
END:STANDARD
END:VTIMEZONE
BEGIN:VEVENT
DTSTART;VALUE=DATE:20150514
DTEND;VALUE=DATE:20150517
DTSTAMP:20260422T182921
CREATED:20150505T175953Z
LAST-MODIFIED:20150505T175953Z
UID:1420-1431561600-1431820799@flemingfarmandranch.com
SUMMARY:Lindale Rodeo 2015
DESCRIPTION:Fleming Farm and Ranch Supply is a proud sponsor of the 2015 Lindale Championship Rodeo.  The rodeo starts on Thursday\, May 14 and runs through Saturday\, May 16.  Pick up your adult advance tickets at our store for just $8.  They are $10 at the gate.  This is a great\, fun\, family event in our community. \nOfficials are expecting more than 500 contestants\, competing for more than $60\,000 in prize money. Events include bull riding\, bareback and saddle bronc riding\, steer wrestling and team roping. Youngsters ages 7-12 can compete for cash prizes in the calf scramble\, while kids 6 and under can compete in the “cash scramble.’’ \nFor more information on the Lindale Rodeo 2015 visit the Lindale Chamber of Commerce website\, click here.
URL:https://flemingfarmandranch.com/event/lindale-rodeo-2015/
CATEGORIES:Upcoming Events
END:VEVENT
END:VCALENDAR