BEGIN:VCALENDAR
VERSION:2.0
PRODID:-//Fleming Farm and Ranch Supply - ECPv5.13.0//NONSGML v1.0//EN
CALSCALE:GREGORIAN
METHOD:PUBLISH
X-WR-CALNAME:Fleming Farm and Ranch Supply
X-ORIGINAL-URL:https://flemingfarmandranch.com
X-WR-CALDESC:Events for Fleming Farm and Ranch Supply
BEGIN:VTIMEZONE
TZID:America/Chicago
BEGIN:DAYLIGHT
TZOFFSETFROM:-0600
TZOFFSETTO:-0500
TZNAME:CDT
DTSTART:20150308T080000
END:DAYLIGHT
BEGIN:STANDARD
TZOFFSETFROM:-0500
TZOFFSETTO:-0600
TZNAME:CST
DTSTART:20151101T070000
END:STANDARD
END:VTIMEZONE
BEGIN:VEVENT
DTSTART;VALUE=DATE:20150525
DTEND;VALUE=DATE:20150526
DTSTAMP:20260422T165455
CREATED:20150505T035752Z
LAST-MODIFIED:20150505T035752Z
UID:1411-1432512000-1432598399@flemingfarmandranch.com
SUMMARY:Memorial Day : Closed
DESCRIPTION:Fleming Farm and Ranch Supply will be closed on Monday\, May 25 for Memorial Day in remembrance of the men and women who died while serving in the United States Armed Forces.  Please enjoy the holiday with your family and friends.  We’ll see you on Tuesday when we will be open normal hours 8:00am – 5:30pm.
URL:https://flemingfarmandranch.com/event/memorial-day-closed-2/
CATEGORIES:Upcoming Events
END:VEVENT
END:VCALENDAR