BEGIN:VCALENDAR
VERSION:2.0
PRODID:-//Fleming Farm and Ranch Supply - ECPv5.13.0//NONSGML v1.0//EN
CALSCALE:GREGORIAN
METHOD:PUBLISH
X-WR-CALNAME:Fleming Farm and Ranch Supply
X-ORIGINAL-URL:https://flemingfarmandranch.com
X-WR-CALDESC:Events for Fleming Farm and Ranch Supply
BEGIN:VTIMEZONE
TZID:America/Chicago
BEGIN:DAYLIGHT
TZOFFSETFROM:-0600
TZOFFSETTO:-0500
TZNAME:CDT
DTSTART:20130310T080000
END:DAYLIGHT
BEGIN:STANDARD
TZOFFSETFROM:-0500
TZOFFSETTO:-0600
TZNAME:CST
DTSTART:20131103T070000
END:STANDARD
END:VTIMEZONE
BEGIN:VEVENT
DTSTART;VALUE=DATE:20131031
DTEND;VALUE=DATE:20131101
DTSTAMP:20260422T175901
CREATED:20131014T202016Z
LAST-MODIFIED:20131030T185947Z
UID:214-1383177600-1383263999@flemingfarmandranch.com
SUMMARY:Happy Halloween!
DESCRIPTION:Boo! \n  \n  \n  \n  \n  \n 
URL:https://flemingfarmandranch.com/event/new-event/
CATEGORIES:Upcoming Events
END:VEVENT
END:VCALENDAR