BEGIN:VCALENDAR
VERSION:2.0
PRODID:-//Fleming Farm and Ranch Supply - ECPv5.13.0//NONSGML v1.0//EN
CALSCALE:GREGORIAN
METHOD:PUBLISH
X-WR-CALNAME:Fleming Farm and Ranch Supply
X-ORIGINAL-URL:https://flemingfarmandranch.com
X-WR-CALDESC:Events for Fleming Farm and Ranch Supply
BEGIN:VTIMEZONE
TZID:America/Chicago
BEGIN:DAYLIGHT
TZOFFSETFROM:-0600
TZOFFSETTO:-0500
TZNAME:CDT
DTSTART:20150308T080000
END:DAYLIGHT
BEGIN:STANDARD
TZOFFSETFROM:-0500
TZOFFSETTO:-0600
TZNAME:CST
DTSTART:20151101T070000
END:STANDARD
END:VTIMEZONE
BEGIN:VEVENT
DTSTART;VALUE=DATE:20150813
DTEND;VALUE=DATE:20150815
DTSTAMP:20260422T150417
CREATED:20150804T004243Z
LAST-MODIFIED:20150804T004321Z
UID:1539-1439424000-1439596799@flemingfarmandranch.com
SUMMARY:Smith County Hay Show
DESCRIPTION:The 31st Annual Smith County Hay Show is Monday\, September 28\, 2015\, 11:30am – 12:30pm in Harvey Hall at the Howdy Neighbor Barbecue at the East Texas State Fairgrounds. Hay yields appear to be good so far and quality seems to be equally good for some for the first cuts of the season.  Consider participating in the hay show auction.  Last year\, the hay show raised over $20\,000 for scholarships\, youth activities\, and conservation efforts in Tyler and the east Texas area. \nOn August 13 and 14\, hay samples can be submitted at Fleming Farm and Ranch Supply. The hay must be raised in Smith County or by a producer living in Smith County. Entries\, at $3 each\, consist of one square bale of hay or one feed sack full of hay from a round bale. It is judged by chemical composition score – % crude protein + (100 – % ADF)  Example: 20% crude protein hay with 25% ADF = 20 + (100-25) = 95. The number of bales sold at auction will be determined by the Hay Show Committee. Only two entries from any producer will be sold at the auction regardless of final placing.  If the entry to be auctioned is from a large round bale\, only the sack of hay will be sold at auction. \nAll the rules\, guidelines and more are attached in this official documents.  Click here for more details.
URL:https://flemingfarmandranch.com/event/smith-county-hay-show/
CATEGORIES:Upcoming Events
END:VEVENT
END:VCALENDAR